BEGIN:VCALENDAR

VERSION:2.0

PRODID:-//hacksw/handcal//NONSGML v1.0//EN

BEGIN:VEVENT

UID:91db3ed5598396affd0d3981154f8eb1

DTSTAMP:20190228T124614Z

DTSTART:20190302T102000

DTEND:20190302T104000

SUMMARY:18832404 - 7 Carew Street, YARRABILBA QLD 4207

LOCATION:7 Carew Street, YARRABILBA QLD 4207

END:VEVENT

END:VCALENDAR