BEGIN:VCALENDAR

VERSION:2.0

PRODID:-//hacksw/handcal//NONSGML v1.0//EN

BEGIN:VEVENT

UID:ba800301294c18d1293fbf38a7327294

DTSTAMP:20190228T124527Z

DTSTART:20190302T093000

DTEND:20190302T095000

SUMMARY:19769351 - 5 Sheoak Place, CEDAR GROVE QLD 4285

LOCATION:5 Sheoak Place, CEDAR GROVE QLD 4285

END:VEVENT

END:VCALENDAR