BEGIN:VCALENDAR

VERSION:2.0

PRODID:-//hacksw/handcal//NONSGML v1.0//EN

BEGIN:VEVENT

UID:ff420110d4a666d4a8a2565f2ad2e1c2

DTSTAMP:20190228T124555Z

DTSTART:20190302T100000

DTEND:20190302T103000

SUMMARY:20419804 - 193-209 Leopardwood Road, CEDAR GROVE QLD 4285

LOCATION:193-209 Leopardwood Road, CEDAR GROVE QLD 4285

END:VEVENT

END:VCALENDAR