BEGIN:VCALENDAR

VERSION:2.0

PRODID:-//hacksw/handcal//NONSGML v1.0//EN

BEGIN:VEVENT

UID:6004b5f759b3eff75ea6b44328819c24

DTSTAMP:20190228T124538Z

DTSTART:20190302T093000

DTEND:20190302T100000

SUMMARY:17816865 - 49-57 Candlebark Road, GLENLOGAN QLD 4280

LOCATION:49-57 Candlebark Road, GLENLOGAN QLD 4280

END:VEVENT

END:VCALENDAR